BEGIN:VCALENDAR
VERSION:2.0
PRODID:-//Drayton Parish Council//Meeting Calendar//EN
CALSCALE:GREGORIAN
METHOD:PUBLISH
BEGIN:VEVENT
UID:72227-20260128@draytonparish.gov.uk
DTSTAMP:20260420T180145Z
DTSTART;VALUE=DATE:20260128
DTEND;VALUE=DATE:20260129
SUMMARY:Full Council Meeting 28 January 2026
DESCRIPTION:Full Council Meeting\nView details: https://draytonparish.gov.uk/meetings/full-council-meeting-28-january-2026/
URL:https://draytonparish.gov.uk/meetings/full-council-meeting-28-january-2026/
END:VEVENT
END:VCALENDAR
