BEGIN:VCALENDAR
VERSION:2.0
PRODID:-//Drayton Parish Council//Meeting Calendar//EN
CALSCALE:GREGORIAN
METHOD:PUBLISH
BEGIN:VEVENT
UID:72126-20251126@draytonparish.gov.uk
DTSTAMP:20260424T085616Z
DTSTART;VALUE=DATE:20251126
DTEND;VALUE=DATE:20251127
SUMMARY:Extraordinary Meeting 26 November 2025
DESCRIPTION:Full Council Meeting\nView details: https://draytonparish.gov.uk/meetings/extraordinary-meeting-26-november-2025/
URL:https://draytonparish.gov.uk/meetings/extraordinary-meeting-26-november-2025/
END:VEVENT
END:VCALENDAR
