BEGIN:VCALENDAR
VERSION:2.0
PRODID:-//Drayton Parish Council//Meeting Calendar//EN
CALSCALE:GREGORIAN
METHOD:PUBLISH
BEGIN:VEVENT
UID:71986-20240528@draytonparish.gov.uk
DTSTAMP:20260421T142350Z
DTSTART;VALUE=DATE:20240528
DTEND;VALUE=DATE:20240529
SUMMARY:Council Meeting 28 May 2024
DESCRIPTION:Full Council Meeting\nView details: https://draytonparish.gov.uk/meetings/council-meeting/
URL:https://draytonparish.gov.uk/meetings/council-meeting/
END:VEVENT
END:VCALENDAR
