BEGIN:VCALENDAR
VERSION:2.0
PRODID:-//Drayton Parish Council//Meeting Calendar//EN
CALSCALE:GREGORIAN
METHOD:PUBLISH
BEGIN:VEVENT
UID:71741-20251013@draytonparish.gov.uk
DTSTAMP:20260424T084550Z
DTSTART;VALUE=DATE:20251013
DTEND;VALUE=DATE:20251014
SUMMARY:Parish Council Meeting 13 October 2025
DESCRIPTION:Full Council Meeting\nView details: https://draytonparish.gov.uk/meetings/parish-council-meeting-14-october-2025/
URL:https://draytonparish.gov.uk/meetings/parish-council-meeting-14-october-2025/
END:VEVENT
END:VCALENDAR
