BEGIN:VCALENDAR
VERSION:2.0
PRODID:-//Drayton Parish Council//Meeting Calendar//EN
CALSCALE:GREGORIAN
METHOD:PUBLISH
BEGIN:VEVENT
UID:71734-20250609@draytonparish.gov.uk
DTSTAMP:20260421T093458Z
DTSTART;VALUE=DATE:20250609
DTEND;VALUE=DATE:20250610
SUMMARY:Parish Council Meeting 9 June 2025
DESCRIPTION:Full Council Meeting\nView details: https://draytonparish.gov.uk/meetings/parish-council-meeting-10-june-2025/
URL:https://draytonparish.gov.uk/meetings/parish-council-meeting-10-june-2025/
END:VEVENT
END:VCALENDAR
