BEGIN:VCALENDAR
VERSION:2.0
PRODID:-//Drayton Parish Council//Meeting Calendar//EN
CALSCALE:GREGORIAN
METHOD:PUBLISH
BEGIN:VEVENT
UID:71732-20250408@draytonparish.gov.uk
DTSTAMP:20260421T090832Z
DTSTART;VALUE=DATE:20250408
DTEND;VALUE=DATE:20250409
SUMMARY:Parish Council Meeting 8 April 2025
DESCRIPTION:Full Council Meeting\nView details: https://draytonparish.gov.uk/meetings/parish-council-meeting-8-april-2025/
URL:https://draytonparish.gov.uk/meetings/parish-council-meeting-8-april-2025/
END:VEVENT
END:VCALENDAR
