BEGIN:VCALENDAR
VERSION:2.0
PRODID:-//Drayton Parish Council//Meeting Calendar//EN
CALSCALE:GREGORIAN
METHOD:PUBLISH
BEGIN:VEVENT
UID:71731-20250225@draytonparish.gov.uk
DTSTAMP:20260421T105701Z
DTSTART;VALUE=DATE:20250225
DTEND;VALUE=DATE:20250226
SUMMARY:Annual Parish Meeting 25 March 2025
DESCRIPTION:Annual Meeting\nView details: https://draytonparish.gov.uk/meetings/annual-parish-meeting-25-march-2025/
URL:https://draytonparish.gov.uk/meetings/annual-parish-meeting-25-march-2025/
END:VEVENT
END:VCALENDAR
