BEGIN:VCALENDAR
VERSION:2.0
PRODID:-//Drayton Parish Council//Meeting Calendar//EN
CALSCALE:GREGORIAN
METHOD:PUBLISH
BEGIN:VEVENT
UID:71730-20250320@draytonparish.gov.uk
DTSTAMP:20260421T090933Z
DTSTART;VALUE=DATE:20250320
DTEND;VALUE=DATE:20250321
SUMMARY:Parish Council Meeting 20 March 2025
DESCRIPTION:Full Council Meeting\nView details: https://draytonparish.gov.uk/meetings/council-meeting-20-march-2025/
URL:https://draytonparish.gov.uk/meetings/council-meeting-20-march-2025/
END:VEVENT
END:VCALENDAR
