BEGIN:VCALENDAR
VERSION:2.0
PRODID:-//Drayton Parish Council//Meeting Calendar//EN
CALSCALE:GREGORIAN
METHOD:PUBLISH
BEGIN:VEVENT
UID:71725-20250210@draytonparish.gov.uk
DTSTAMP:20260421T090938Z
DTSTART;VALUE=DATE:20250210
DTEND;VALUE=DATE:20250211
SUMMARY:Council Meeting 10 February 2025
DESCRIPTION:Full Council Meeting\nView details: https://draytonparish.gov.uk/meetings/council-meeting-10-february-2025/
URL:https://draytonparish.gov.uk/meetings/council-meeting-10-february-2025/
END:VEVENT
END:VCALENDAR
