BEGIN:VCALENDAR
VERSION:2.0
PRODID:-//Drayton Parish Council//Meeting Calendar//EN
CALSCALE:GREGORIAN
METHOD:PUBLISH
BEGIN:VEVENT
UID:71681-19920101@draytonparish.gov.uk
DTSTAMP:20260422T111850Z
DTSTART;VALUE=DATE:19920101
DTEND;VALUE=DATE:19920102
SUMMARY:Council Meetings &#8211\\; 1992
DESCRIPTION:Full Council Meeting\nView details: https://draytonparish.gov.uk/meetings/council-meetings-1992/
URL:https://draytonparish.gov.uk/meetings/council-meetings-1992/
END:VEVENT
END:VCALENDAR
