BEGIN:VCALENDAR
VERSION:2.0
PRODID:-//Drayton Parish Council//Meeting Calendar//EN
CALSCALE:GREGORIAN
METHOD:PUBLISH
BEGIN:VEVENT
UID:71680-19930101@draytonparish.gov.uk
DTSTAMP:20260422T110205Z
DTSTART;VALUE=DATE:19930101
DTEND;VALUE=DATE:19930102
SUMMARY:Council Meetings &#8211\\; 1993
DESCRIPTION:Full Council Meeting\nView details: https://draytonparish.gov.uk/meetings/council-meetings-1993/
URL:https://draytonparish.gov.uk/meetings/council-meetings-1993/
END:VEVENT
END:VCALENDAR
