BEGIN:VCALENDAR
VERSION:2.0
PRODID:-//Drayton Parish Council//Meeting Calendar//EN
CALSCALE:GREGORIAN
METHOD:PUBLISH
BEGIN:VEVENT
UID:71678-19950102@draytonparish.gov.uk
DTSTAMP:20260422T111553Z
DTSTART;VALUE=DATE:19950102
DTEND;VALUE=DATE:19950103
SUMMARY:Council Meetings &#8211\\; 1995
DESCRIPTION:Full Council Meeting\nView details: https://draytonparish.gov.uk/meetings/council-meetings-1995/
URL:https://draytonparish.gov.uk/meetings/council-meetings-1995/
END:VEVENT
END:VCALENDAR
