BEGIN:VCALENDAR
VERSION:2.0
PRODID:-//Drayton Parish Council//Meeting Calendar//EN
CALSCALE:GREGORIAN
METHOD:PUBLISH
BEGIN:VEVENT
UID:71676-19960101@draytonparish.gov.uk
DTSTAMP:20260424T085640Z
DTSTART;VALUE=DATE:19960101
DTEND;VALUE=DATE:19960102
SUMMARY:Council Meetings &#8211\\; 1996
DESCRIPTION:Full Council Meeting\nView details: https://draytonparish.gov.uk/meetings/council-meetings-1996/
URL:https://draytonparish.gov.uk/meetings/council-meetings-1996/
END:VEVENT
END:VCALENDAR
