BEGIN:VCALENDAR
VERSION:2.0
PRODID:-//Drayton Parish Council//Meeting Calendar//EN
CALSCALE:GREGORIAN
METHOD:PUBLISH
BEGIN:VEVENT
UID:71675-19970101@draytonparish.gov.uk
DTSTAMP:20260420T160630Z
DTSTART;VALUE=DATE:19970101
DTEND;VALUE=DATE:19970102
SUMMARY:Council Meetings &#8211\\; 1997
DESCRIPTION:Full Council Meeting\nView details: https://draytonparish.gov.uk/meetings/council-meetings-1997/
URL:https://draytonparish.gov.uk/meetings/council-meetings-1997/
END:VEVENT
END:VCALENDAR
