BEGIN:VCALENDAR
VERSION:2.0
PRODID:-//Drayton Parish Council//Meeting Calendar//EN
CALSCALE:GREGORIAN
METHOD:PUBLISH
BEGIN:VEVENT
UID:71674-19980101@draytonparish.gov.uk
DTSTAMP:20260420T160651Z
DTSTART;VALUE=DATE:19980101
DTEND;VALUE=DATE:19980102
SUMMARY:Council Meetings &#8211\\; 1998
DESCRIPTION:Full Council Meeting\nView details: https://draytonparish.gov.uk/meetings/council-meetings-1998/
URL:https://draytonparish.gov.uk/meetings/council-meetings-1998/
END:VEVENT
END:VCALENDAR
