BEGIN:VCALENDAR
VERSION:2.0
PRODID:-//Drayton Parish Council//Meeting Calendar//EN
CALSCALE:GREGORIAN
METHOD:PUBLISH
BEGIN:VEVENT
UID:71599-20250114@draytonparish.gov.uk
DTSTAMP:20260421T105104Z
DTSTART;VALUE=DATE:20250114
DTEND;VALUE=DATE:20250115
SUMMARY:Full Council &#8211\\; 14th January 2025
DESCRIPTION:Full Council Meeting\nView details: https://draytonparish.gov.uk/meetings/full-council-january-2025/
URL:https://draytonparish.gov.uk/meetings/full-council-january-2025/
END:VEVENT
END:VCALENDAR
