BEGIN:VCALENDAR
VERSION:2.0
PRODID:-//Drayton Parish Council//Meeting Calendar//EN
CALSCALE:GREGORIAN
METHOD:PUBLISH
BEGIN:VEVENT
UID:71568-20120402@draytonparish.gov.uk
DTSTAMP:20260424T085035Z
DTSTART;VALUE=DATE:20120402
DTEND;VALUE=DATE:20120403
SUMMARY:Annual Parish Meeting &#8211\\; 2012
DESCRIPTION:Annual Meeting\nView details: https://draytonparish.gov.uk/meetings/annual-parish-meeting-2012/
URL:https://draytonparish.gov.uk/meetings/annual-parish-meeting-2012/
END:VEVENT
END:VCALENDAR
