BEGIN:VCALENDAR
VERSION:2.0
PRODID:-//Drayton Parish Council//Meeting Calendar//EN
CALSCALE:GREGORIAN
METHOD:PUBLISH
BEGIN:VEVENT
UID:71567-20130304@draytonparish.gov.uk
DTSTAMP:20260421T142434Z
DTSTART;VALUE=DATE:20130304
DTEND;VALUE=DATE:20130305
SUMMARY:Annual Parish Meeting &#8211\\; 2013
DESCRIPTION:Annual Meeting\nView details: https://draytonparish.gov.uk/meetings/annual-parish-meeting-2013/
URL:https://draytonparish.gov.uk/meetings/annual-parish-meeting-2013/
END:VEVENT
END:VCALENDAR
