BEGIN:VCALENDAR
VERSION:2.0
PRODID:-//Drayton Parish Council//Meeting Calendar//EN
CALSCALE:GREGORIAN
METHOD:PUBLISH
BEGIN:VEVENT
UID:71566-20140407@draytonparish.gov.uk
DTSTAMP:20260421T142441Z
DTSTART;VALUE=DATE:20140407
DTEND;VALUE=DATE:20140408
SUMMARY:Annual Parish Meeting &#8211\\; 2014
DESCRIPTION:Annual Meeting\nView details: https://draytonparish.gov.uk/meetings/annual-parish-meeting-2014/
URL:https://draytonparish.gov.uk/meetings/annual-parish-meeting-2014/
END:VEVENT
END:VCALENDAR
