BEGIN:VCALENDAR
VERSION:2.0
PRODID:-//Drayton Parish Council//Meeting Calendar//EN
CALSCALE:GREGORIAN
METHOD:PUBLISH
BEGIN:VEVENT
UID:71565-20160301@draytonparish.gov.uk
DTSTAMP:20260421T142414Z
DTSTART;VALUE=DATE:20160301
DTEND;VALUE=DATE:20160302
SUMMARY:Annual Parish Meeting &#8211\\; 2016
DESCRIPTION:Annual Meeting\nView details: https://draytonparish.gov.uk/meetings/annual-parish-meeting-2016/
URL:https://draytonparish.gov.uk/meetings/annual-parish-meeting-2016/
END:VEVENT
END:VCALENDAR
