BEGIN:VCALENDAR
VERSION:2.0
PRODID:-//Drayton Parish Council//Meeting Calendar//EN
CALSCALE:GREGORIAN
METHOD:PUBLISH
BEGIN:VEVENT
UID:71564-20170403@draytonparish.gov.uk
DTSTAMP:20260421T140735Z
DTSTART;VALUE=DATE:20170403
DTEND;VALUE=DATE:20170404
SUMMARY:Annual Parish Meeting &#8211\\; 2017
DESCRIPTION:Annual Meeting\nView details: https://draytonparish.gov.uk/meetings/annual-parish-meeting-2017/
URL:https://draytonparish.gov.uk/meetings/annual-parish-meeting-2017/
END:VEVENT
END:VCALENDAR
