BEGIN:VCALENDAR
VERSION:2.0
PRODID:-//Drayton Parish Council//Meeting Calendar//EN
CALSCALE:GREGORIAN
METHOD:PUBLISH
BEGIN:VEVENT
UID:71563-20180319@draytonparish.gov.uk
DTSTAMP:20260421T122958Z
DTSTART;VALUE=DATE:20180319
DTEND;VALUE=DATE:20180320
SUMMARY:Annual Parish Meeting &#8211\\; 2018
DESCRIPTION:Annual Meeting\nView details: https://draytonparish.gov.uk/meetings/annual-parish-meeting-2018/
URL:https://draytonparish.gov.uk/meetings/annual-parish-meeting-2018/
END:VEVENT
END:VCALENDAR
