BEGIN:VCALENDAR
VERSION:2.0
PRODID:-//Drayton Parish Council//Meeting Calendar//EN
CALSCALE:GREGORIAN
METHOD:PUBLISH
BEGIN:VEVENT
UID:71562-20190318@draytonparish.gov.uk
DTSTAMP:20260421T122954Z
DTSTART;VALUE=DATE:20190318
DTEND;VALUE=DATE:20190319
SUMMARY:Annual Parish Meeting &#8211\\; 2019
DESCRIPTION:Annual Meeting\nView details: https://draytonparish.gov.uk/meetings/annual-parish-meeting-2019/
URL:https://draytonparish.gov.uk/meetings/annual-parish-meeting-2019/
END:VEVENT
END:VCALENDAR
