BEGIN:VCALENDAR
VERSION:2.0
PRODID:-//Drayton Parish Council//Meeting Calendar//EN
CALSCALE:GREGORIAN
METHOD:PUBLISH
BEGIN:VEVENT
UID:71561-20210505@draytonparish.gov.uk
DTSTAMP:20260421T123538Z
DTSTART;VALUE=DATE:20210505
DTEND;VALUE=DATE:20210506
SUMMARY:Annual Parish Meeting &#8211\\; 2021
DESCRIPTION:Annual Meeting\nView details: https://draytonparish.gov.uk/meetings/annual-parish-meeting-2021/
URL:https://draytonparish.gov.uk/meetings/annual-parish-meeting-2021/
END:VEVENT
END:VCALENDAR
