BEGIN:VCALENDAR
VERSION:2.0
PRODID:-//Drayton Parish Council//Meeting Calendar//EN
CALSCALE:GREGORIAN
METHOD:PUBLISH
BEGIN:VEVENT
UID:71560-20220505@draytonparish.gov.uk
DTSTAMP:20260421T123215Z
DTSTART;VALUE=DATE:20220505
DTEND;VALUE=DATE:20220506
SUMMARY:Annual Parish Meeting &#8211\\; 2022
DESCRIPTION:Annual Meeting\nView details: https://draytonparish.gov.uk/meetings/annual-parish-meeting-2022/
URL:https://draytonparish.gov.uk/meetings/annual-parish-meeting-2022/
END:VEVENT
END:VCALENDAR
