BEGIN:VCALENDAR
VERSION:2.0
PRODID:-//Drayton Parish Council//Meeting Calendar//EN
CALSCALE:GREGORIAN
METHOD:PUBLISH
BEGIN:VEVENT
UID:71536-20220103@draytonparish.gov.uk
DTSTAMP:20260422T032403Z
DTSTART;VALUE=DATE:20220103
DTEND;VALUE=DATE:20220104
SUMMARY:Full Council 2022
DESCRIPTION:Full Council Meeting\nView details: https://draytonparish.gov.uk/meetings/full-council-2022/
URL:https://draytonparish.gov.uk/meetings/full-council-2022/
END:VEVENT
END:VCALENDAR
