BEGIN:VCALENDAR
VERSION:2.0
PRODID:-//Drayton Parish Council//Meeting Calendar//EN
CALSCALE:GREGORIAN
METHOD:PUBLISH
BEGIN:VEVENT
UID:71521-20110103@draytonparish.gov.uk
DTSTAMP:20260420T210149Z
DTSTART;VALUE=DATE:20110103
DTEND;VALUE=DATE:20110104
SUMMARY:Full Council 2011
DESCRIPTION:Full Council Meeting\nView details: https://draytonparish.gov.uk/meetings/full-council-2011/
URL:https://draytonparish.gov.uk/meetings/full-council-2011/
END:VEVENT
END:VCALENDAR
