BEGIN:VCALENDAR
VERSION:2.0
PRODID:-//Drayton Parish Council//Meeting Calendar//EN
CALSCALE:GREGORIAN
METHOD:PUBLISH
BEGIN:VEVENT
UID:71508-20120101@draytonparish.gov.uk
DTSTAMP:20260420T210332Z
DTSTART;VALUE=DATE:20120101
DTEND;VALUE=DATE:20120102
SUMMARY:Full Council 2012
DESCRIPTION:Full Council Meeting\nView details: https://draytonparish.gov.uk/meetings/full-council-2012/
URL:https://draytonparish.gov.uk/meetings/full-council-2012/
END:VEVENT
END:VCALENDAR
