BEGIN:VCALENDAR
VERSION:2.0
PRODID:-//Drayton Parish Council//Meeting Calendar//EN
CALSCALE:GREGORIAN
METHOD:PUBLISH
BEGIN:VEVENT
UID:71493-20130101@draytonparish.gov.uk
DTSTAMP:20260420T211101Z
DTSTART;VALUE=DATE:20130101
DTEND;VALUE=DATE:20130102
SUMMARY:Full Council 2013
DESCRIPTION:Full Council Meeting\nView details: https://draytonparish.gov.uk/meetings/full-council-2013/
URL:https://draytonparish.gov.uk/meetings/full-council-2013/
END:VEVENT
END:VCALENDAR
