BEGIN:VCALENDAR
VERSION:2.0
PRODID:-//Drayton Parish Council//Meeting Calendar//EN
CALSCALE:GREGORIAN
METHOD:PUBLISH
BEGIN:VEVENT
UID:71480-20140101@draytonparish.gov.uk
DTSTAMP:20260420T224423Z
DTSTART;VALUE=DATE:20140101
DTEND;VALUE=DATE:20140102
SUMMARY:Full Council 2014
DESCRIPTION:Full Council Meeting\nView details: https://draytonparish.gov.uk/meetings/full-meeting-2014/
URL:https://draytonparish.gov.uk/meetings/full-meeting-2014/
END:VEVENT
END:VCALENDAR
