BEGIN:VCALENDAR
VERSION:2.0
PRODID:-//Drayton Parish Council//Meeting Calendar//EN
CALSCALE:GREGORIAN
METHOD:PUBLISH
BEGIN:VEVENT
UID:71467-20150101@draytonparish.gov.uk
DTSTAMP:20260420T230051Z
DTSTART;VALUE=DATE:20150101
DTEND;VALUE=DATE:20150102
SUMMARY:Full Council 2015
DESCRIPTION:Full Council Meeting\nView details: https://draytonparish.gov.uk/meetings/full-council-2015/
URL:https://draytonparish.gov.uk/meetings/full-council-2015/
END:VEVENT
END:VCALENDAR
