BEGIN:VCALENDAR
VERSION:2.0
PRODID:-//Drayton Parish Council//Meeting Calendar//EN
CALSCALE:GREGORIAN
METHOD:PUBLISH
BEGIN:VEVENT
UID:71454-20160101@draytonparish.gov.uk
DTSTAMP:20260420T230052Z
DTSTART;VALUE=DATE:20160101
DTEND;VALUE=DATE:20160102
SUMMARY:Full Council 2016
DESCRIPTION:Full Council Meeting\nView details: https://draytonparish.gov.uk/meetings/full-council-2016/
URL:https://draytonparish.gov.uk/meetings/full-council-2016/
END:VEVENT
END:VCALENDAR
