BEGIN:VCALENDAR
VERSION:2.0
PRODID:-//Drayton Parish Council//Meeting Calendar//EN
CALSCALE:GREGORIAN
METHOD:PUBLISH
BEGIN:VEVENT
UID:71441-20170102@draytonparish.gov.uk
DTSTAMP:20260420T230052Z
DTSTART;VALUE=DATE:20170102
DTEND;VALUE=DATE:20170103
SUMMARY:Full Council 2017
DESCRIPTION:Full Council Meeting\nView details: https://draytonparish.gov.uk/meetings/full-council-2017/
URL:https://draytonparish.gov.uk/meetings/full-council-2017/
END:VEVENT
END:VCALENDAR
