BEGIN:VCALENDAR
VERSION:2.0
PRODID:-//Drayton Parish Council//Meeting Calendar//EN
CALSCALE:GREGORIAN
METHOD:PUBLISH
BEGIN:VEVENT
UID:71440-20180101@draytonparish.gov.uk
DTSTAMP:20260421T004439Z
DTSTART;VALUE=DATE:20180101
DTEND;VALUE=DATE:20180102
SUMMARY:Full Council 2018
DESCRIPTION:Full Council Meeting\nView details: https://draytonparish.gov.uk/meetings/full-council-2018/
URL:https://draytonparish.gov.uk/meetings/full-council-2018/
END:VEVENT
END:VCALENDAR
