BEGIN:VCALENDAR
VERSION:2.0
PRODID:-//Drayton Parish Council//Meeting Calendar//EN
CALSCALE:GREGORIAN
METHOD:PUBLISH
BEGIN:VEVENT
UID:71425-20241112@draytonparish.gov.uk
DTSTAMP:20260421T105507Z
DTSTART;VALUE=DATE:20241112
DTEND;VALUE=DATE:20241113
SUMMARY:Council Meeting 12th November 2024
DESCRIPTION:Full Council Meeting\nView details: https://draytonparish.gov.uk/meetings/council-meeting-12th-november-2024/
URL:https://draytonparish.gov.uk/meetings/council-meeting-12th-november-2024/
END:VEVENT
END:VCALENDAR
