BEGIN:VCALENDAR
VERSION:2.0
PRODID:-//Drayton Parish Council//Meeting Calendar//EN
CALSCALE:GREGORIAN
METHOD:PUBLISH
BEGIN:VEVENT
UID:71422-20241008@draytonparish.gov.uk
DTSTAMP:20260421T110810Z
DTSTART;VALUE=DATE:20241008
DTEND;VALUE=DATE:20241009
SUMMARY:Council Meeting 8th October 2024
DESCRIPTION:Full Council Meeting\nView details: https://draytonparish.gov.uk/meetings/council-meeting-8th-october-2024/
URL:https://draytonparish.gov.uk/meetings/council-meeting-8th-october-2024/
END:VEVENT
END:VCALENDAR
