BEGIN:VCALENDAR
VERSION:2.0
PRODID:-//Drayton Parish Council//Meeting Calendar//EN
CALSCALE:GREGORIAN
METHOD:PUBLISH
BEGIN:VEVENT
UID:71418-20230110@draytonparish.gov.uk
DTSTAMP:20260422T013412Z
DTSTART;VALUE=DATE:20230110
DTEND;VALUE=DATE:20230111
SUMMARY:Council Meeting 10th January 2023
DESCRIPTION:Full Council Meeting\nView details: https://draytonparish.gov.uk/meetings/council-meeting-10th-january-2023/
URL:https://draytonparish.gov.uk/meetings/council-meeting-10th-january-2023/
END:VEVENT
END:VCALENDAR
