BEGIN:VCALENDAR
VERSION:2.0
PRODID:-//Drayton Parish Council//Meeting Calendar//EN
CALSCALE:GREGORIAN
METHOD:PUBLISH
BEGIN:VEVENT
UID:71415-20230214@draytonparish.gov.uk
DTSTAMP:20260421T234449Z
DTSTART;VALUE=DATE:20230214
DTEND;VALUE=DATE:20230215
SUMMARY:Council Meeting 14th February 2023
DESCRIPTION:Full Council Meeting\nView details: https://draytonparish.gov.uk/meetings/council-meeting-14th-february-2023/
URL:https://draytonparish.gov.uk/meetings/council-meeting-14th-february-2023/
END:VEVENT
END:VCALENDAR
