BEGIN:VCALENDAR
VERSION:2.0
PRODID:-//Drayton Parish Council//Meeting Calendar//EN
CALSCALE:GREGORIAN
METHOD:PUBLISH
BEGIN:VEVENT
UID:71412-20230314@draytonparish.gov.uk
DTSTAMP:20260421T214428Z
DTSTART;VALUE=DATE:20230314
DTEND;VALUE=DATE:20230315
SUMMARY:Council Meeting 14th March 2023
DESCRIPTION:Full Council Meeting\nView details: https://draytonparish.gov.uk/meetings/council-meeting-14th-march-2023/
URL:https://draytonparish.gov.uk/meetings/council-meeting-14th-march-2023/
END:VEVENT
END:VCALENDAR
