BEGIN:VCALENDAR
VERSION:2.0
PRODID:-//Drayton Parish Council//Meeting Calendar//EN
CALSCALE:GREGORIAN
METHOD:PUBLISH
BEGIN:VEVENT
UID:71409-20230411@draytonparish.gov.uk
DTSTAMP:20260421T195125Z
DTSTART;VALUE=DATE:20230411
DTEND;VALUE=DATE:20230412
SUMMARY:Council Meeting 11th April 2023
DESCRIPTION:Full Council Meeting\nView details: https://draytonparish.gov.uk/meetings/council-meeting-11th-april-2023/
URL:https://draytonparish.gov.uk/meetings/council-meeting-11th-april-2023/
END:VEVENT
END:VCALENDAR
