BEGIN:VCALENDAR
VERSION:2.0
PRODID:-//Drayton Parish Council//Meeting Calendar//EN
CALSCALE:GREGORIAN
METHOD:PUBLISH
BEGIN:VEVENT
UID:71406-20230516@draytonparish.gov.uk
DTSTAMP:20260421T195220Z
DTSTART;VALUE=DATE:20230516
DTEND;VALUE=DATE:20230517
SUMMARY:Council Meeting 16th May 2023
DESCRIPTION:Full Council Meeting\nView details: https://draytonparish.gov.uk/meetings/council-meeting-16th-may-2023/
URL:https://draytonparish.gov.uk/meetings/council-meeting-16th-may-2023/
END:VEVENT
END:VCALENDAR
