BEGIN:VCALENDAR
VERSION:2.0
PRODID:-//Drayton Parish Council//Meeting Calendar//EN
CALSCALE:GREGORIAN
METHOD:PUBLISH
BEGIN:VEVENT
UID:71403-20230613@draytonparish.gov.uk
DTSTAMP:20260421T195114Z
DTSTART;VALUE=DATE:20230613
DTEND;VALUE=DATE:20230614
SUMMARY:Council Meeting 13th June 2023
DESCRIPTION:Full Council Meeting\nView details: https://draytonparish.gov.uk/meetings/council-meeting-13th-june-2023/
URL:https://draytonparish.gov.uk/meetings/council-meeting-13th-june-2023/
END:VEVENT
END:VCALENDAR
