BEGIN:VCALENDAR
VERSION:2.0
PRODID:-//Drayton Parish Council//Meeting Calendar//EN
CALSCALE:GREGORIAN
METHOD:PUBLISH
BEGIN:VEVENT
UID:71338-20241210@draytonparish.gov.uk
DTSTAMP:20260421T105721Z
DTSTART;VALUE=DATE:20241210
DTEND;VALUE=DATE:20241211
SUMMARY:Full Council December 2024
DESCRIPTION:Full Council Meeting\nView details: https://draytonparish.gov.uk/meetings/december-2024-full-council/
URL:https://draytonparish.gov.uk/meetings/december-2024-full-council/
END:VEVENT
END:VCALENDAR
