BEGIN:VCALENDAR
VERSION:2.0
PRODID:-//Drayton Parish Council//Meeting Calendar//EN
CALSCALE:GREGORIAN
METHOD:PUBLISH
BEGIN:VEVENT
UID:70923-19270101@draytonparish.gov.uk
DTSTAMP:20260422T091447Z
DTSTART;VALUE=DATE:19270101
DTEND;VALUE=DATE:19270102
SUMMARY:Council Meetings &#8211\\; 1895-1927
DESCRIPTION:Full Council Meeting\nView details: https://draytonparish.gov.uk/meetings/council-meetings-1895-1927/
URL:https://draytonparish.gov.uk/meetings/council-meetings-1895-1927/
END:VEVENT
END:VCALENDAR
