BEGIN:VCALENDAR
VERSION:2.0
PRODID:-//Drayton Parish Council//Meeting Calendar//EN
CALSCALE:GREGORIAN
METHOD:PUBLISH
BEGIN:VEVENT
UID:70921-19460101@draytonparish.gov.uk
DTSTAMP:20260422T085647Z
DTSTART;VALUE=DATE:19460101
DTEND;VALUE=DATE:19460102
SUMMARY:Annual Parish Meeting &#8211\\; 1894-1946
DESCRIPTION:Annual Meeting\nView details: https://draytonparish.gov.uk/meetings/annual-parish-meeting-1894-1946/
URL:https://draytonparish.gov.uk/meetings/annual-parish-meeting-1894-1946/
END:VEVENT
END:VCALENDAR
