BEGIN:VCALENDAR
VERSION:2.0
PRODID:-//Drayton Parish Council//Meeting Calendar//EN
CALSCALE:GREGORIAN
METHOD:PUBLISH
BEGIN:VEVENT
UID:70759-20090101@draytonparish.gov.uk
DTSTAMP:20260420T210234Z
DTSTART;VALUE=DATE:20090101
DTEND;VALUE=DATE:20090102
SUMMARY:Council Meetings &#8211\\; 2009
DESCRIPTION:Full Council Meeting\nView details: https://draytonparish.gov.uk/meetings/council-meetings-2009/
URL:https://draytonparish.gov.uk/meetings/council-meetings-2009/
END:VEVENT
END:VCALENDAR
