BEGIN:VCALENDAR
VERSION:2.0
PRODID:-//Drayton Parish Council//Meeting Calendar//EN
CALSCALE:GREGORIAN
METHOD:PUBLISH
BEGIN:VEVENT
UID:70733-20080101@draytonparish.gov.uk
DTSTAMP:20260420T193127Z
DTSTART;VALUE=DATE:20080101
DTEND;VALUE=DATE:20080102
SUMMARY:Council Meetings &#8211\\; 2008
DESCRIPTION:Full Council Meeting\nView details: https://draytonparish.gov.uk/meetings/council-meetings-2008/
URL:https://draytonparish.gov.uk/meetings/council-meetings-2008/
END:VEVENT
END:VCALENDAR
