BEGIN:VCALENDAR
VERSION:2.0
PRODID:-//Drayton Parish Council//Meeting Calendar//EN
CALSCALE:GREGORIAN
METHOD:PUBLISH
BEGIN:VEVENT
UID:70718-20010101@draytonparish.gov.uk
DTSTAMP:20260420T174033Z
DTSTART;VALUE=DATE:20010101
DTEND;VALUE=DATE:20010102
SUMMARY:Council Meetings &#8211\\; 2001
DESCRIPTION:Full Council Meeting\nView details: https://draytonparish.gov.uk/meetings/council-meetings-2001/
URL:https://draytonparish.gov.uk/meetings/council-meetings-2001/
END:VEVENT
END:VCALENDAR
