BEGIN:VCALENDAR
VERSION:2.0
PRODID:-//Drayton Parish Council//Meeting Calendar//EN
CALSCALE:GREGORIAN
METHOD:PUBLISH
BEGIN:VEVENT
UID:70716-20000101@draytonparish.gov.uk
DTSTAMP:20260420T160528Z
DTSTART;VALUE=DATE:20000101
DTEND;VALUE=DATE:20000102
SUMMARY:Council Meetings &#8211\\; 2000
DESCRIPTION:Full Council Meeting\nView details: https://draytonparish.gov.uk/meetings/council-meetings-2000/
URL:https://draytonparish.gov.uk/meetings/council-meetings-2000/
END:VEVENT
END:VCALENDAR
