BEGIN:VCALENDAR
VERSION:2.0
PRODID:-//Drayton Parish Council//Meeting Calendar//EN
CALSCALE:GREGORIAN
METHOD:PUBLISH
BEGIN:VEVENT
UID:70714-19990101@draytonparish.gov.uk
DTSTAMP:20260420T160511Z
DTSTART;VALUE=DATE:19990101
DTEND;VALUE=DATE:19990102
SUMMARY:Council Meetings &#8211\\; 1999
DESCRIPTION:Full Council Meeting\nView details: https://draytonparish.gov.uk/meetings/council-meetings-1999/
URL:https://draytonparish.gov.uk/meetings/council-meetings-1999/
END:VEVENT
END:VCALENDAR
